BEGIN:VCALENDAR
VERSION:2.0
PRODID:-//Teal - ECPv6.15.20//NONSGML v1.0//EN
CALSCALE:GREGORIAN
METHOD:PUBLISH
X-WR-CALNAME:Teal
X-ORIGINAL-URL:https://tealtech.com
X-WR-CALDESC:Events for Teal
REFRESH-INTERVAL;VALUE=DURATION:PT1H
X-Robots-Tag:noindex
X-PUBLISHED-TTL:PT1H
BEGIN:VTIMEZONE
TZID:UTC
BEGIN:STANDARD
TZOFFSETFROM:+0000
TZOFFSETTO:+0000
TZNAME:UTC
DTSTART:20240101T000000
END:STANDARD
END:VTIMEZONE
BEGIN:VEVENT
DTSTART;VALUE=DATE:20250414
DTEND;VALUE=DATE:20250415
DTSTAMP:20260421T105604
CREATED:20250319T132502Z
LAST-MODIFIED:20250319T133146Z
UID:10000038-1744588800-1744675199@tealtech.com
SUMMARY:IT Spending Trends & Cost Optimization in 2025
DESCRIPTION:With global IT spending projected to hit $5.75 trillion in 2025\, this episode covers key drivers like AI\, blockchain\, and automation. Gar and Reid share how SMBs are balancing budgets with strategic investments in cybersecurity\, telemedicine\, and cloud solutions. Plus\, hear real-world strategies on leveraging technology for competitive advantages and scalable growth. \n  \nListen now on your favorite podcast platform!
URL:https://tealtech.com/event/it-spending-trends-cost-optimization-in-2025/
CATEGORIES:Podcast
ATTACH;FMTTYPE=image/png:https://tealtech.com/wp-content/uploads/2025/01/Podcast-Cover-Final.png
LOCATION:https://tealtech.com/visionary-it-small-business-podcast/
END:VEVENT
END:VCALENDAR