BEGIN:VCALENDAR
VERSION:2.0
PRODID:-//Teal - ECPv6.15.17.1//NONSGML v1.0//EN
CALSCALE:GREGORIAN
METHOD:PUBLISH
X-ORIGINAL-URL:https://tealtech.com
X-WR-CALDESC:Events for Teal
REFRESH-INTERVAL;VALUE=DURATION:PT1H
X-Robots-Tag:noindex
X-PUBLISHED-TTL:PT1H
BEGIN:VTIMEZONE
TZID:America/New_York
BEGIN:DAYLIGHT
TZOFFSETFROM:-0500
TZOFFSETTO:-0400
TZNAME:EDT
DTSTART:20250309T070000
END:DAYLIGHT
BEGIN:STANDARD
TZOFFSETFROM:-0400
TZOFFSETTO:-0500
TZNAME:EST
DTSTART:20251102T060000
END:STANDARD
BEGIN:DAYLIGHT
TZOFFSETFROM:-0500
TZOFFSETTO:-0400
TZNAME:EDT
DTSTART:20260308T070000
END:DAYLIGHT
BEGIN:STANDARD
TZOFFSETFROM:-0400
TZOFFSETTO:-0500
TZNAME:EST
DTSTART:20261101T060000
END:STANDARD
BEGIN:DAYLIGHT
TZOFFSETFROM:-0500
TZOFFSETTO:-0400
TZNAME:EDT
DTSTART:20270314T070000
END:DAYLIGHT
BEGIN:STANDARD
TZOFFSETFROM:-0400
TZOFFSETTO:-0500
TZNAME:EST
DTSTART:20271107T060000
END:STANDARD
END:VTIMEZONE
BEGIN:VEVENT
DTSTART;VALUE=DATE:20260203
DTEND;VALUE=DATE:20260207
DTSTAMP:20260420T123522
CREATED:20260123T164748Z
LAST-MODIFIED:20260202T144217Z
UID:10000075-1770076800-1770422399@tealtech.com
SUMMARY:Right of Boom Conference 2026
DESCRIPTION:We’re excited to share that our Chief Intelligent Transformation Officer\, Reid Johnston\, will attend Right of Boom 2026 at the MGM Grand Resort in Las Vegas.  \nRight of Boom is a security-first conference built for MSPs\, featuring immersive\, hands-on training\, certifications\, and rich discussions where AI and automation are front and center.   \nThis event is designed to strengthen:  \n\nIncident readiness \n\n\nCyber resilience \n\n\nAdvisory excellence \n\n  \nThese pillars are central to our work at Teal\, and Reid’s participation ensures we continue to empower clients with the most current\, practical strategies in each.  \nReid also attended in 2025\, and this year’s agenda doubles down on practical\, outcomes-oriented learning we can put to work immediately.   \nHe looks forward to bringing back strategies to better secure our clients’ environments\, streamline routine operations with automation\, and advise growth-focused and regulated organizations on cyber\, compliance\, and AI safety.  \n   \n 
URL:https://tealtech.com/event/right-of-boom-2026/
LOCATION:MGM Grand Resort
CATEGORIES:In-person
ATTACH;FMTTYPE=image/png:https://tealtech.com/wp-content/uploads/2026/01/Screenshot-2026-01-23-at-11.42.56-AM.png
END:VEVENT
BEGIN:VEVENT
DTSTART;VALUE=DATE:20260211
DTEND;VALUE=DATE:20260214
DTSTAMP:20260420T123522
CREATED:20260123T172841Z
LAST-MODIFIED:20260202T163916Z
UID:10000076-1770768000-1771027199@tealtech.com
SUMMARY:Teal Sponsors CUI‑CON 2026 Conference
DESCRIPTION:We’re proud to sponsor CUI‑CON 2026\, taking place February 11–13\, 2026\, at the DoubleTree by Hilton at the Entrance to Universal Orlando. CUI‑CON is a working conference designed to help Department of Defense contractors protect CUI and prepare for CMMC conformity assessments aligned with NIST SP 800‑171. \n  \nWhy We Support CUI‑CON \nAs a sponsor\, Teal aligns with CUI-CON’s mission to help organizations move from theory into practical\, defensible implementation. The conference focuses on the challenges contractors face in securing sensitive environments\, building audit-ready evidence\, and preparing for certification requirements. \n  \nOur involvement reflects our commitment to continually strengthening our own security posture and staying aligned with the evolving requirements that impact defense contractors. \nBy supporting events like CUI-CON\, we stay informed on guidance around CUI protection\, CMMC readiness\, and secure architecture. This allows us to advise growth-focused and regulated organizations more effectively as requirements continue to mature and long-term operational resilience becomes vital.
URL:https://tealtech.com/event/cui-con-2026/
CATEGORIES:In-person
ATTACH;FMTTYPE=image/png:https://tealtech.com/wp-content/uploads/2026/01/cui-con-logo-transparent-1500-411.png
END:VEVENT
END:VCALENDAR