BEGIN:VCALENDAR
VERSION:2.0
PRODID:-//Teal - ECPv6.15.20//NONSGML v1.0//EN
CALSCALE:GREGORIAN
METHOD:PUBLISH
X-WR-CALNAME:Teal
X-ORIGINAL-URL:https://tealtech.com
X-WR-CALDESC:Events for Teal
REFRESH-INTERVAL;VALUE=DURATION:PT1H
X-Robots-Tag:noindex
X-PUBLISHED-TTL:PT1H
BEGIN:VTIMEZONE
TZID:America/New_York
BEGIN:DAYLIGHT
TZOFFSETFROM:-0500
TZOFFSETTO:-0400
TZNAME:EDT
DTSTART:20250309T070000
END:DAYLIGHT
BEGIN:STANDARD
TZOFFSETFROM:-0400
TZOFFSETTO:-0500
TZNAME:EST
DTSTART:20251102T060000
END:STANDARD
BEGIN:DAYLIGHT
TZOFFSETFROM:-0500
TZOFFSETTO:-0400
TZNAME:EDT
DTSTART:20260308T070000
END:DAYLIGHT
BEGIN:STANDARD
TZOFFSETFROM:-0400
TZOFFSETTO:-0500
TZNAME:EST
DTSTART:20261101T060000
END:STANDARD
BEGIN:DAYLIGHT
TZOFFSETFROM:-0500
TZOFFSETTO:-0400
TZNAME:EDT
DTSTART:20270314T070000
END:DAYLIGHT
BEGIN:STANDARD
TZOFFSETFROM:-0400
TZOFFSETTO:-0500
TZNAME:EST
DTSTART:20271107T060000
END:STANDARD
END:VTIMEZONE
BEGIN:VEVENT
DTSTART;VALUE=DATE:20260211
DTEND;VALUE=DATE:20260214
DTSTAMP:20260421T202707
CREATED:20260123T172841Z
LAST-MODIFIED:20260202T163916Z
UID:10000076-1770768000-1771027199@tealtech.com
SUMMARY:Teal Sponsors CUI‑CON 2026 Conference
DESCRIPTION:We’re proud to sponsor CUI‑CON 2026\, taking place February 11–13\, 2026\, at the DoubleTree by Hilton at the Entrance to Universal Orlando. CUI‑CON is a working conference designed to help Department of Defense contractors protect CUI and prepare for CMMC conformity assessments aligned with NIST SP 800‑171. \n  \nWhy We Support CUI‑CON \nAs a sponsor\, Teal aligns with CUI-CON’s mission to help organizations move from theory into practical\, defensible implementation. The conference focuses on the challenges contractors face in securing sensitive environments\, building audit-ready evidence\, and preparing for certification requirements. \n  \nOur involvement reflects our commitment to continually strengthening our own security posture and staying aligned with the evolving requirements that impact defense contractors. \nBy supporting events like CUI-CON\, we stay informed on guidance around CUI protection\, CMMC readiness\, and secure architecture. This allows us to advise growth-focused and regulated organizations more effectively as requirements continue to mature and long-term operational resilience becomes vital.
URL:https://tealtech.com/event/cui-con-2026/
CATEGORIES:In-person
ATTACH;FMTTYPE=image/png:https://tealtech.com/wp-content/uploads/2026/01/cui-con-logo-transparent-1500-411.png
END:VEVENT
BEGIN:VEVENT
DTSTART;VALUE=DATE:20260331
DTEND;VALUE=DATE:20260401
DTSTAMP:20260421T202707
CREATED:20260303T201540Z
LAST-MODIFIED:20260303T201540Z
UID:10000077-1774915200-1775001599@tealtech.com
SUMMARY:CMMC Accelerate 2026
DESCRIPTION:CMMC compliance isn’t failing because teams aren’t trying. It’s failing where scope\, access\, and accountability collide. At CMMC Accelerate 2026\, you’ll hear directly from organizations navigating mobile access\, audit scope\, legal exposure\, and operational risk across the Defense Industrial Base.  \nGar Whaley\, Teal cofounder & CRO\, will be on-site and welcomes conversations with defense contractors who want to discuss creating a defensible path to Level 2 readiness.  \nTeal CMMC is a subsidiary brand engineered specifically for DIB contractors operating under concrete regulatory scrutiny\, where accountability\, scope definition\, and evidence traceability matter.   \nIf you’re balancing CUI access across mobile users\, reducing audit surprises\, or tightening exposure before assessments begin\, connect with Gar at the event and compare notes on what “defensible” looks like in practice.  \nYou’ll leave with sharper questions for your MSP\, consultant\, and IT team\, and a clearer sense of how assessors interpret boundary decisions and executive responsibility.   \nLearn more about Teal CMMC. 
URL:https://tealtech.com/event/cmmc-accelerate-2026/
CATEGORIES:In-person
ATTACH;FMTTYPE=image/png:https://tealtech.com/wp-content/uploads/2026/03/cmmc-accelerate.png
END:VEVENT
BEGIN:VEVENT
DTSTART;VALUE=DATE:20260408
DTEND;VALUE=DATE:20260410
DTSTAMP:20260421T202707
CREATED:20260313T163050Z
LAST-MODIFIED:20260313T163050Z
UID:10000085-1775606400-1775779199@tealtech.com
SUMMARY:AI Bootcamp 2026
DESCRIPTION:AI initiatives fail most often when organizations move too fast – adopting tools before validating whether they are appropriate\, governable\, or defensible in the first place. The Pax8 AI Bootcamp is designed to slow that rush\, focusing instead on the frameworks required for responsible and intentional adoption inside of businesses and nonprofits.  \nTeal cofounders\, Gar Whaley and Reid Johnston\, will be on site to deepen their understanding of how leaders should evaluate AI opportunities. The bootcamp emphasizes structured assessment across business value\, user experience\, and technical readiness\, along with determining the appropriate level of intervention and recognizing when the right decision is to not use AI at all.  \nThis perspective matters for Teal’s clients. As pressure mounts to “do something with AI” or risk falling behind\, organizations increasingly need advisors who can help separate viable opportunities from unnecessary risk\, balancing innovation with:   \n\nGovernance \n\n\nAccountability \n\n\nLongterm impact 
URL:https://tealtech.com/event/ai-bootcamp-pax8/
CATEGORIES:In-person
ATTACH;FMTTYPE=image/png:https://tealtech.com/wp-content/uploads/2026/03/pax8.png
END:VEVENT
BEGIN:VEVENT
DTSTART;VALUE=DATE:20260514
DTEND;VALUE=DATE:20260517
DTSTAMP:20260421T202707
CREATED:20260303T202847Z
LAST-MODIFIED:20260303T204417Z
UID:10000078-1778716800-1778975999@tealtech.com
SUMMARY:Equal Justice Conference 2026
DESCRIPTION:Teal is proud to sponsor the 2026 ABA/NLADA Equal Justice Conference – a national gathering of nonprofit legal aid and public defense organizations working to strengthen systems\, partnerships\, and outcomes for communities in need.   \nIn its 28th year\, the event brings together legal services and pro bono advocates from across the country to share developments and innovations in serving people with low income. The conference emphasizes strengthening partnerships across the civil justice system through plenary sessions\, hands-on workshops\, networking opportunities\, and special programming.  \nEvents like EJC 2026 create space for nonprofit leaders to share helpful insights\, learn from peers\, and advance their work.   \nTeal’s roots are deeply connected to this community. Our first client was a nonprofit\, and that foundation drives our commitment to building trusted partnerships and giving back to the organizations doing some of the hardest work.  \nWe’re proud to give back to the nonprofit sector by supporting organizations and events that prioritize sustainability\, trust\, and long-term impact. We’re honored to stand behind EJC 2026 and the leaders working every day to expand access to justice.  
URL:https://tealtech.com/event/equal-justice-conference-2026/
CATEGORIES:In-person
ATTACH;FMTTYPE=image/png:https://tealtech.com/wp-content/uploads/2026/03/equal-justice.png
END:VEVENT
END:VCALENDAR