BEGIN:VCALENDAR
VERSION:2.0
PRODID:-//Teal - ECPv6.15.20//NONSGML v1.0//EN
CALSCALE:GREGORIAN
METHOD:PUBLISH
X-WR-CALNAME:Teal
X-ORIGINAL-URL:https://tealtech.com
X-WR-CALDESC:Events for Teal
REFRESH-INTERVAL;VALUE=DURATION:PT1H
X-Robots-Tag:noindex
X-PUBLISHED-TTL:PT1H
BEGIN:VTIMEZONE
TZID:UTC
BEGIN:STANDARD
TZOFFSETFROM:+0000
TZOFFSETTO:+0000
TZNAME:UTC
DTSTART:20240101T000000
END:STANDARD
END:VTIMEZONE
BEGIN:VEVENT
DTSTART;VALUE=DATE:20250219
DTEND;VALUE=DATE:20250222
DTSTAMP:20260421T114148
CREATED:20250214T195046Z
LAST-MODIFIED:20250214T195046Z
UID:10000033-1739923200-1740182399@tealtech.com
SUMMARY:Right of Boom Conference 2025
DESCRIPTION:We are excited to announce that our Chief Information Officer\, Reid Johnston\, will be attending the upcoming Right of Boom 2025 conference at the MGM Grand Resort in Las Vegas.   \nRight of Boom is a premier cybersecurity event dedicated to enhancing the cyber maturity of managed service providers and managed security service providers.   \nBy engaging with industry leaders and exploring the latest strategies\, we plan to bring back valuable insights that directly benefit our current and future clients. 
URL:https://tealtech.com/event/right-of-boom-2025/
LOCATION:MGM Grand Resort
CATEGORIES:In-person
ATTACH;FMTTYPE=image/png:https://tealtech.com/wp-content/uploads/2025/02/rightofboom.png
END:VEVENT
END:VCALENDAR