BEGIN:VCALENDAR
VERSION:2.0
PRODID:-//Teal - ECPv6.15.17.1//NONSGML v1.0//EN
CALSCALE:GREGORIAN
METHOD:PUBLISH
X-ORIGINAL-URL:https://tealtech.com
X-WR-CALDESC:Events for Teal
REFRESH-INTERVAL;VALUE=DURATION:PT1H
X-Robots-Tag:noindex
X-PUBLISHED-TTL:PT1H
BEGIN:VTIMEZONE
TZID:UTC
BEGIN:STANDARD
TZOFFSETFROM:+0000
TZOFFSETTO:+0000
TZNAME:UTC
DTSTART:20240101T000000
END:STANDARD
END:VTIMEZONE
BEGIN:VEVENT
DTSTART;VALUE=DATE:20250512
DTEND;VALUE=DATE:20250513
DTSTAMP:20260420T180631
CREATED:20250324T191707Z
LAST-MODIFIED:20250324T191707Z
UID:10000040-1747008000-1747094399@tealtech.com
SUMMARY:Improve Your Password Policy: Strategies for Stronger Security
DESCRIPTION:Passwords remain a cornerstone of cybersecurity; however\, weak practices continue to put businesses at risk. In this episode\, we discuss real-life breaches\, strategies for creating and managing robust passwords\, and the importance of multifactor authentication. Discover the password best practices you need to update your password policy and protect your company from password-related vulnerabilities. \n  \nListen now on your favorite podcast platform!
URL:https://tealtech.com/event/improve-your-password-policy-strategies-for-stronger-security/
CATEGORIES:Podcast
ATTACH;FMTTYPE=image/png:https://tealtech.com/wp-content/uploads/2025/01/Podcast-Cover-Final.png
LOCATION:https://tealtech.com/visionary-it-small-business-podcast/
END:VEVENT
BEGIN:VEVENT
DTSTART;VALUE=DATE:20250428
DTEND;VALUE=DATE:20250429
DTSTAMP:20260420T180631
CREATED:20250319T133026Z
LAST-MODIFIED:20250319T133026Z
UID:10000039-1745798400-1745884799@tealtech.com
SUMMARY:Harnessing the Entrepreneurial Operating System for Success
DESCRIPTION:This episode unpacks the Entrepreneurial Operating System (EOS) and its six key components to improve organizational performance. Hear how Teal implemented the framework to scale effectively\, with tools like the Vision/Traction Organizer and Level 10 Meetings driving alignment and accountability. Insights from Reid and Gar reveal key takeaways for businesses looking to adopt EOS. \n  \nListen now on your favorite podcast platform!
URL:https://tealtech.com/event/harnessing-the-entrepreneurial-operating-system-for-success/
CATEGORIES:Podcast
ATTACH;FMTTYPE=image/png:https://tealtech.com/wp-content/uploads/2025/01/Podcast-Cover-Final.png
LOCATION:https://tealtech.com/visionary-it-small-business-podcast/
END:VEVENT
BEGIN:VEVENT
DTSTART;VALUE=DATE:20250414
DTEND;VALUE=DATE:20250415
DTSTAMP:20260420T180631
CREATED:20250319T132502Z
LAST-MODIFIED:20250319T133146Z
UID:10000038-1744588800-1744675199@tealtech.com
SUMMARY:IT Spending Trends & Cost Optimization in 2025
DESCRIPTION:With global IT spending projected to hit $5.75 trillion in 2025\, this episode covers key drivers like AI\, blockchain\, and automation. Gar and Reid share how SMBs are balancing budgets with strategic investments in cybersecurity\, telemedicine\, and cloud solutions. Plus\, hear real-world strategies on leveraging technology for competitive advantages and scalable growth. \n  \nListen now on your favorite podcast platform!
URL:https://tealtech.com/event/it-spending-trends-cost-optimization-in-2025/
CATEGORIES:Podcast
ATTACH;FMTTYPE=image/png:https://tealtech.com/wp-content/uploads/2025/01/Podcast-Cover-Final.png
LOCATION:https://tealtech.com/visionary-it-small-business-podcast/
END:VEVENT
BEGIN:VEVENT
DTSTART;VALUE=DATE:20250331
DTEND;VALUE=DATE:20250401
DTSTAMP:20260420T180631
CREATED:20250214T191230Z
LAST-MODIFIED:20250214T191332Z
UID:10000032-1743379200-1743465599@tealtech.com
SUMMARY:Master Your Backup Strategy in the Cloud Era
DESCRIPTION:In this episode\, Reid and Gar break down why data backups are essential for modern businesses and how strategies like the 3-2-1 rule remain a cornerstone of cybersecurity. Discover practical tips for implementing reliable backups\, choosing the right storage solutions\, and avoiding common pitfalls. Plus\, we’ll share real-world lessons from a business that got it right. \n  \nListen now on your favorite podcast platform!
URL:https://tealtech.com/event/master-your-backup-strategy-in-the-cloud-era/
CATEGORIES:Podcast
ATTACH;FMTTYPE=image/png:https://tealtech.com/wp-content/uploads/2025/01/Podcast-Cover-Final.png
LOCATION:https://tealtech.com/visionary-it-small-business-podcast/
END:VEVENT
BEGIN:VEVENT
DTSTART;VALUE=DATE:20250317
DTEND;VALUE=DATE:20250318
DTSTAMP:20260420T180631
CREATED:20250214T191110Z
LAST-MODIFIED:20250214T191110Z
UID:10000031-1742169600-1742255999@tealtech.com
SUMMARY:Digital Transformation & Data Storage Solutions for Small Businesses
DESCRIPTION:In this episode\, Reid and Gar explore the rapid acceleration of digital transformation and why SMBs must embrace it to stay competitive. He breaks down the key differences between on-premises\, cloud\, and hosted solutions\, with real-world examples like Microsoft Azure and Salesforce. Through insightful case studies\, Reid showcases how a personalized\, strategic approach helps businesses find scalable\, secure technology solutions that align with their growth goals. Listen now to discover how the right hosting strategy can future-proof your business. \n  \nListen now on your favorite podcast platform!
URL:https://tealtech.com/event/digital-transformation-data-storage-solutions-for-small-businesses/
CATEGORIES:Podcast
ATTACH;FMTTYPE=image/png:https://tealtech.com/wp-content/uploads/2025/01/Podcast-Cover-Final.png
LOCATION:https://tealtech.com/visionary-it-small-business-podcast/
END:VEVENT
BEGIN:VEVENT
DTSTART;VALUE=DATE:20250224
DTEND;VALUE=DATE:20250225
DTSTAMP:20260420T180631
CREATED:20250212T185521Z
LAST-MODIFIED:20250214T153143Z
UID:10000030-1740355200-1740441599@tealtech.com
SUMMARY:The Financial Implications of Cybersecurity
DESCRIPTION:Cyberattacks impact 73% of SMBs\, often leading to significant financial and reputational losses. Discover the true cost of cybersecurity breaches as well as why businesses should strengthen their cybersecurity by implementing foundational measures and consider partnering with a sophisticated managed IT service provider. This episode includes real-world cases\, cost analyses\, and success stories that reveal the importance of proactive strategies as security threats grow more dynamic. \n  \nListen now on your favorite podcast platform!
URL:https://tealtech.com/event/the-financial-implications-of-cybersecurity/
CATEGORIES:Podcast
ATTACH;FMTTYPE=image/png:https://tealtech.com/wp-content/uploads/2025/01/Podcast-Cover-Final.png
LOCATION:https://tealtech.com/visionary-it-small-business-podcast/
END:VEVENT
BEGIN:VEVENT
DTSTART;VALUE=DATE:20250210
DTEND;VALUE=DATE:20250211
DTSTAMP:20260420T180631
CREATED:20250210T192943Z
LAST-MODIFIED:20250214T170840Z
UID:10000028-1739145600-1739231999@tealtech.com
SUMMARY:Optimizing IT with Co-managed Services
DESCRIPTION:Welcome to the first episode of Visionary IT\, the podcast where technology meets strategy! \nIn this episode\, we explore the transformative power of co-managed IT solutions for SMBs. From boosting efficiency and reducing costs to fortifying cybersecurity\, we’ll dive into real-world success stories\, including how Teal has elevated strategies for businesses like yours. Gain valuable insights for selecting the perfect partner to empower your internal IT team and discover why co-managed IT is essential for scaling and thriving in today’s tech-driven world. \n  \nListen now on your favorite podcast platform!
URL:https://tealtech.com/event/optimizing-it-with-co-managed-services/
CATEGORIES:Podcast
ATTACH;FMTTYPE=image/png:https://tealtech.com/wp-content/uploads/2025/01/Podcast-Cover-Final.png
LOCATION:https://tealtech.com/visionary-it-small-business-podcast/
END:VEVENT
END:VCALENDAR