BEGIN:VCALENDAR
VERSION:2.0
PRODID:-//Teal - ECPv6.15.17.1//NONSGML v1.0//EN
CALSCALE:GREGORIAN
METHOD:PUBLISH
X-ORIGINAL-URL:https://tealtech.com
X-WR-CALDESC:Events for Teal
REFRESH-INTERVAL;VALUE=DURATION:PT1H
X-Robots-Tag:noindex
X-PUBLISHED-TTL:PT1H
BEGIN:VTIMEZONE
TZID:America/New_York
BEGIN:DAYLIGHT
TZOFFSETFROM:-0500
TZOFFSETTO:-0400
TZNAME:EDT
DTSTART:20240310T070000
END:DAYLIGHT
BEGIN:STANDARD
TZOFFSETFROM:-0400
TZOFFSETTO:-0500
TZNAME:EST
DTSTART:20241103T060000
END:STANDARD
BEGIN:DAYLIGHT
TZOFFSETFROM:-0500
TZOFFSETTO:-0400
TZNAME:EDT
DTSTART:20250309T070000
END:DAYLIGHT
BEGIN:STANDARD
TZOFFSETFROM:-0400
TZOFFSETTO:-0500
TZNAME:EST
DTSTART:20251102T060000
END:STANDARD
BEGIN:DAYLIGHT
TZOFFSETFROM:-0500
TZOFFSETTO:-0400
TZNAME:EDT
DTSTART:20260308T070000
END:DAYLIGHT
BEGIN:STANDARD
TZOFFSETFROM:-0400
TZOFFSETTO:-0500
TZNAME:EST
DTSTART:20261101T060000
END:STANDARD
END:VTIMEZONE
BEGIN:VEVENT
DTSTART;TZID=America/New_York:20251002T110000
DTEND;TZID=America/New_York:20251002T112000
DTSTAMP:20260420T023111
CREATED:20250903T143442Z
LAST-MODIFIED:20250929T174141Z
UID:10000058-1759402800-1759404000@tealtech.com
SUMMARY:Microsoft 365 Tips & Tricks - October 2025
DESCRIPTION:Join small business tech experts\, Reid Johnston and Gar Whaley\, for a 20-minute session packed with a ton of Microsoft 365 tips!
URL:https://tealtech.com/event/microsoft-365-tips-tricks-october-2025/
CATEGORIES:Virtual
ATTACH;FMTTYPE=image/png:https://tealtech.com/wp-content/uploads/2024/09/Monthly-Microsoft-Tips.png
LOCATION:https://events.zoom.us/ev/Ak9UI3axNLVK3YS26dBzZc9p_aayJSgZSLlle96-0ChgCh2WiBTJ~AuQKje7xytavL5Mwrbvxn-zxCKSTJe21sNx3AABMUQsCQPjGCVdP53PmhA
END:VEVENT
END:VCALENDAR