BEGIN:VCALENDAR
VERSION:2.0
PRODID:-//Teal - ECPv6.15.17.1//NONSGML v1.0//EN
CALSCALE:GREGORIAN
METHOD:PUBLISH
X-WR-CALNAME:Teal
X-ORIGINAL-URL:https://tealtech.com
X-WR-CALDESC:Events for Teal
REFRESH-INTERVAL;VALUE=DURATION:PT1H
X-Robots-Tag:noindex
X-PUBLISHED-TTL:PT1H
BEGIN:VTIMEZONE
TZID:UTC
BEGIN:STANDARD
TZOFFSETFROM:+0000
TZOFFSETTO:+0000
TZNAME:UTC
DTSTART:20230101T000000
END:STANDARD
END:VTIMEZONE
BEGIN:VEVENT
DTSTART;TZID=UTC:20240822T110000
DTEND;TZID=UTC:20240822T111500
DTSTAMP:20260420T164842
CREATED:20240813T201722Z
LAST-MODIFIED:20241010T125738Z
UID:10000004-1724324400-1724325300@tealtech.com
SUMMARY:Masterclass - What is Included in Managed IT Services?
DESCRIPTION:Ready to grow your organization? Unlock your SMB’s potential through the power of managed IT services. \n  \nWatch this video to uncover: \n\nDifferent Types of IT Services – Discover the range of services that can streamline your operations and boost efficiency.\nBenefits of Managed IT Services – Learn how managed IT can save you time\, reduce costs\, and enhance security.\nKey Services to Look for in a Technology Partner – Find out what essential services you need to seek in a technology partner to ensure success.\n\nGain expert insights and learn practical tips to take your business to the next level. Don’t miss out!
URL:https://tealtech.com/event/what-is-included-in-managed-it-services/
CATEGORIES:Virtual
ATTACH;FMTTYPE=image/png:https://tealtech.com/wp-content/uploads/2024/08/Managed-IT-Services.png
LOCATION:https://tealtech.com/it-resources/information-technology-videos/what-is-included-in-managed-it-services/
END:VEVENT
END:VCALENDAR